BEGIN:VCALENDAR
VERSION:2.0
PRODID:-//Wersell&#039;s Bike shop - ECPv6.15.20//NONSGML v1.0//EN
CALSCALE:GREGORIAN
METHOD:PUBLISH
X-WR-CALNAME:Wersell&#039;s Bike shop
X-ORIGINAL-URL:https://wersellsbikeshop.com
X-WR-CALDESC:Events for Wersell&#039;s Bike shop
REFRESH-INTERVAL;VALUE=DURATION:PT1H
X-Robots-Tag:noindex
X-PUBLISHED-TTL:PT1H
BEGIN:VTIMEZONE
TZID:America/Detroit
BEGIN:DAYLIGHT
TZOFFSETFROM:-0500
TZOFFSETTO:-0400
TZNAME:EDT
DTSTART:20200308T070000
END:DAYLIGHT
BEGIN:STANDARD
TZOFFSETFROM:-0400
TZOFFSETTO:-0500
TZNAME:EST
DTSTART:20201101T060000
END:STANDARD
BEGIN:DAYLIGHT
TZOFFSETFROM:-0500
TZOFFSETTO:-0400
TZNAME:EDT
DTSTART:20210314T070000
END:DAYLIGHT
BEGIN:STANDARD
TZOFFSETFROM:-0400
TZOFFSETTO:-0500
TZNAME:EST
DTSTART:20211107T060000
END:STANDARD
BEGIN:DAYLIGHT
TZOFFSETFROM:-0500
TZOFFSETTO:-0400
TZNAME:EDT
DTSTART:20220313T070000
END:DAYLIGHT
BEGIN:STANDARD
TZOFFSETFROM:-0400
TZOFFSETTO:-0500
TZNAME:EST
DTSTART:20221106T060000
END:STANDARD
BEGIN:DAYLIGHT
TZOFFSETFROM:-0500
TZOFFSETTO:-0400
TZNAME:EDT
DTSTART:20230312T070000
END:DAYLIGHT
BEGIN:STANDARD
TZOFFSETFROM:-0400
TZOFFSETTO:-0500
TZNAME:EST
DTSTART:20231105T060000
END:STANDARD
END:VTIMEZONE
BEGIN:VEVENT
DTSTART;TZID=America/Detroit:20211111T170000
DTEND;TZID=America/Detroit:20220212T140000
DTSTAMP:20260419T190406
CREATED:20211102T192350Z
LAST-MODIFIED:20211102T192350Z
UID:3650-1636650000-1644674400@wersellsbikeshop.com
SUMMARY:Basic Maintenance Classes Are Starting
DESCRIPTION:We have basic maintenance classes to help the beginner and also show you how to do your own tune up! \nCLICK HERE to find out all the details!
URL:https://wersellsbikeshop.com/event/basic-maintenance-classes-are-starting/
LOCATION:Wersell’s Bike Shop\, 2860 W Central Ave\, Toledo\, OH\, 43606
CATEGORIES:Basic Maintenance Classes,Bicycle Repair Class,Oldest Bike Shop In Toledo,Wersells Bike Shop
ATTACH;FMTTYPE=image/jpeg:https://wersellsbikeshop.com/wp-content/uploads/2021/11/basic-maintenance-classes-e1635880695274.jpg
END:VEVENT
END:VCALENDAR