BEGIN:VCALENDAR
VERSION:2.0
PRODID:-//Wersell&#039;s Bike shop - ECPv6.15.20//NONSGML v1.0//EN
CALSCALE:GREGORIAN
METHOD:PUBLISH
X-WR-CALNAME:Wersell&#039;s Bike shop
X-ORIGINAL-URL:https://wersellsbikeshop.com
X-WR-CALDESC:Events for Wersell&#039;s Bike shop
REFRESH-INTERVAL;VALUE=DURATION:PT1H
X-Robots-Tag:noindex
X-PUBLISHED-TTL:PT1H
BEGIN:VTIMEZONE
TZID:America/Detroit
BEGIN:DAYLIGHT
TZOFFSETFROM:-0500
TZOFFSETTO:-0400
TZNAME:EDT
DTSTART:20200308T070000
END:DAYLIGHT
BEGIN:STANDARD
TZOFFSETFROM:-0400
TZOFFSETTO:-0500
TZNAME:EST
DTSTART:20201101T060000
END:STANDARD
BEGIN:DAYLIGHT
TZOFFSETFROM:-0500
TZOFFSETTO:-0400
TZNAME:EDT
DTSTART:20210314T070000
END:DAYLIGHT
BEGIN:STANDARD
TZOFFSETFROM:-0400
TZOFFSETTO:-0500
TZNAME:EST
DTSTART:20211107T060000
END:STANDARD
BEGIN:DAYLIGHT
TZOFFSETFROM:-0500
TZOFFSETTO:-0400
TZNAME:EDT
DTSTART:20220313T070000
END:DAYLIGHT
BEGIN:STANDARD
TZOFFSETFROM:-0400
TZOFFSETTO:-0500
TZNAME:EST
DTSTART:20221106T060000
END:STANDARD
END:VTIMEZONE
BEGIN:VEVENT
DTSTART;TZID=America/Detroit:20210730T173000
DTEND;TZID=America/Detroit:20210730T223000
DTSTAMP:20260419T155732
CREATED:20210706T211530Z
LAST-MODIFIED:20210716T152640Z
UID:3465-1627666200-1627684200@wersellsbikeshop.com
SUMMARY:Pedaling Paddy's Parking Lot Party & Glow Roll
DESCRIPTION:RESCHEDULED TO JULY 30TH! \nThe Toledo Irish American Club and Wersell’s Bike Shop are partnering up for an awesome fundraiser event! The festivities kick off at 5:30pm at Wersell’s Bike Shop. \nWe will have beer for sale for folks ages 21 and older\, the food truck We Be Ribs will be there and the Toledo Firefighters Pipes and Drums will be performing before we kick off the glow roll ride at 7:45pm. \nFor those that want to ride\, it will be an approximate 12 mile ride that will take about 1.5 hours. \nBikes 20″ and under will not be permitted.\nLights and helmet recommended. \nFor those that want to stay in the lot to eat\, drink and be merry\, you’re welcome!
URL:https://wersellsbikeshop.com/event/pedaling-paddys-parking-lot-party-glow-roll/
LOCATION:Wersell’s Bike Shop\, 2860 W Central Ave\, Toledo\, OH\, 43606
CATEGORIES:Bike Ride,Charity,Glow Roll,Oldest Bike Shop In Toledo,Wersells Bike Shop,Wersells Bike Shop Events
ATTACH;FMTTYPE=image/jpeg:https://wersellsbikeshop.com/wp-content/uploads/2021/07/2021-Toledo-Irish-American-Club-Glow-Roll.jpg
END:VEVENT
END:VCALENDAR