BEGIN:VCALENDAR
VERSION:2.0
PRODID:-//Wersell&#039;s Bike shop - ECPv6.15.20//NONSGML v1.0//EN
CALSCALE:GREGORIAN
METHOD:PUBLISH
X-ORIGINAL-URL:https://wersellsbikeshop.com
X-WR-CALDESC:Events for Wersell&#039;s Bike shop
REFRESH-INTERVAL;VALUE=DURATION:PT1H
X-Robots-Tag:noindex
X-PUBLISHED-TTL:PT1H
BEGIN:VTIMEZONE
TZID:America/Detroit
BEGIN:DAYLIGHT
TZOFFSETFROM:-0500
TZOFFSETTO:-0400
TZNAME:EDT
DTSTART:20190310T070000
END:DAYLIGHT
BEGIN:STANDARD
TZOFFSETFROM:-0400
TZOFFSETTO:-0500
TZNAME:EST
DTSTART:20191103T060000
END:STANDARD
BEGIN:DAYLIGHT
TZOFFSETFROM:-0500
TZOFFSETTO:-0400
TZNAME:EDT
DTSTART:20200308T070000
END:DAYLIGHT
BEGIN:STANDARD
TZOFFSETFROM:-0400
TZOFFSETTO:-0500
TZNAME:EST
DTSTART:20201101T060000
END:STANDARD
BEGIN:DAYLIGHT
TZOFFSETFROM:-0500
TZOFFSETTO:-0400
TZNAME:EDT
DTSTART:20210314T070000
END:DAYLIGHT
BEGIN:STANDARD
TZOFFSETFROM:-0400
TZOFFSETTO:-0500
TZNAME:EST
DTSTART:20211107T060000
END:STANDARD
BEGIN:DAYLIGHT
TZOFFSETFROM:-0500
TZOFFSETTO:-0400
TZNAME:EDT
DTSTART:20220313T070000
END:DAYLIGHT
BEGIN:STANDARD
TZOFFSETFROM:-0400
TZOFFSETTO:-0500
TZNAME:EST
DTSTART:20221106T060000
END:STANDARD
END:VTIMEZONE
BEGIN:VEVENT
DTSTART;TZID=America/Detroit:20211016T153000
DTEND;TZID=America/Detroit:20211016T220000
DTSTAMP:20260419T173417
CREATED:20210616T133554Z
LAST-MODIFIED:20210930T203958Z
UID:3413-1634398200-1634421600@wersellsbikeshop.com
SUMMARY:Scavenger Hunt Mini Tour De Fat
DESCRIPTION:The SCAVENGER HUNT / MINI TOUR DE FAT is back!\nThis years scavenger hunt begins and ends at Wersell’s Bike Shop on October 16th. \nCheck in time is 3:30pm start scavenging at 4pm. You need a team of 6 and prizes will be handed out to the first 3 teams. \nMini Tour De Fat customer appreciation day with drinks and pizza follows the ride so please make sure if your riding you have lights and helmet. \nYOU NEED TO CALL THE SHOP TO RSVP SPACE IS LIMITED!\n419 474 7412
URL:https://wersellsbikeshop.com/event/scavenger-hunt-mini-tour-de-fat/
LOCATION:Wersell’s Bike Shop\, 2860 W Central Ave\, Toledo\, OH\, 43606
CATEGORIES:Bike Ride,Mini Tour De Fat,Scavenger Hunt,Tour De Fat,Wersells Bike Shop,Wersells Bike Shop Events
ATTACH;FMTTYPE=image/jpeg:https://wersellsbikeshop.com/wp-content/uploads/2021/06/Mini-Tour-De-Fat-Scavenger-Hunt-21.jpg
END:VEVENT
BEGIN:VEVENT
DTSTART;TZID=America/Detroit:20201017T160000
DTEND;TZID=America/Detroit:20201017T210000
DTSTAMP:20260419T173417
CREATED:20200929T164059Z
LAST-MODIFIED:20200929T164059Z
UID:3229-1602950400-1602968400@wersellsbikeshop.com
SUMMARY:Mini Tour de Fat Scavenger Hunt Bike Ride
DESCRIPTION:Mini Tour de Fat scavenger hunt bike ride! You will roll at 4pm. Get your team together and call the shop to make a reservation (419.474.7412). \nThis ride is limited to the first 100 riders. A $5 Per Person deposit will be required. You will be riding within a 5 mile radius of the shop. \nAll riders must return to the shop by 6:30pm\, where all riders will enjoy pizza\, beer & snacks! Prizes will be awarded to the first 3 teams! \nFace masks are required while at the shop\, and please respect the 6’ social distancing. Hope to see you there!
URL:https://wersellsbikeshop.com/event/mini-tour-de-fat-scavenger-hunt-bike-ride/
LOCATION:Wersell’s Bike Shop\, 2860 W Central Ave\, Toledo\, OH\, 43606
CATEGORIES:Bike Ride,Mini Tour De Fat,New Belgium Fat Tire Beer,Oldest Bike Shop In Toledo,Tour De Fat,Wersells Bike Shop,Wersells Bike Shop Events
ATTACH;FMTTYPE=image/jpeg:https://wersellsbikeshop.com/wp-content/uploads/2020/09/120331001_2754412138106007_3860452011033672373_n.jpg
END:VEVENT
END:VCALENDAR