BEGIN:VCALENDAR
VERSION:2.0
PRODID:-//Wersell&#039;s Bike shop - ECPv6.15.20//NONSGML v1.0//EN
CALSCALE:GREGORIAN
METHOD:PUBLISH
X-ORIGINAL-URL:https://wersellsbikeshop.com
X-WR-CALDESC:Events for Wersell&#039;s Bike shop
REFRESH-INTERVAL;VALUE=DURATION:PT1H
X-Robots-Tag:noindex
X-PUBLISHED-TTL:PT1H
BEGIN:VTIMEZONE
TZID:America/Detroit
BEGIN:DAYLIGHT
TZOFFSETFROM:-0500
TZOFFSETTO:-0400
TZNAME:EDT
DTSTART:20210314T070000
END:DAYLIGHT
BEGIN:STANDARD
TZOFFSETFROM:-0400
TZOFFSETTO:-0500
TZNAME:EST
DTSTART:20211107T060000
END:STANDARD
BEGIN:DAYLIGHT
TZOFFSETFROM:-0500
TZOFFSETTO:-0400
TZNAME:EDT
DTSTART:20220313T070000
END:DAYLIGHT
BEGIN:STANDARD
TZOFFSETFROM:-0400
TZOFFSETTO:-0500
TZNAME:EST
DTSTART:20221106T060000
END:STANDARD
BEGIN:DAYLIGHT
TZOFFSETFROM:-0500
TZOFFSETTO:-0400
TZNAME:EDT
DTSTART:20230312T070000
END:DAYLIGHT
BEGIN:STANDARD
TZOFFSETFROM:-0400
TZOFFSETTO:-0500
TZNAME:EST
DTSTART:20231105T060000
END:STANDARD
END:VTIMEZONE
BEGIN:VEVENT
DTSTART;TZID=America/Detroit:20220402T160000
DTEND;TZID=America/Detroit:20220402T210000
DTSTAMP:20260419T220954
CREATED:20220326T141443Z
LAST-MODIFIED:20220326T145940Z
UID:3808-1648915200-1648933200@wersellsbikeshop.com
SUMMARY:BLESSINGS RIDE
DESCRIPTION:Come and join us for a BLESSINGS RIDE in support for Aaron (Griz) @patronsaintsbrewery Saturday April 2nd rollin’ from Wersell’s Bike Shop at 4pm to Patron Saints\n\n\nDonations will be accepted towards a drawing for a FREE bike
URL:https://wersellsbikeshop.com/event/blessings-ride/
LOCATION:Wersell’s Bike Shop\, 2860 W Central Ave\, Toledo\, OH\, 43606
CATEGORIES:Patron Saints Brewery,Pedals & Pints Ride,Wersells Bike Shop
ATTACH;FMTTYPE=image/png:https://wersellsbikeshop.com/wp-content/uploads/2022/03/Aaron-Blessings-Ride.png
END:VEVENT
END:VCALENDAR