BEGIN:VCALENDAR
VERSION:2.0
PRODID:-//Wersell&#039;s Bike shop - ECPv6.15.20//NONSGML v1.0//EN
CALSCALE:GREGORIAN
METHOD:PUBLISH
X-ORIGINAL-URL:https://wersellsbikeshop.com
X-WR-CALDESC:Events for Wersell&#039;s Bike shop
REFRESH-INTERVAL;VALUE=DURATION:PT1H
X-Robots-Tag:noindex
X-PUBLISHED-TTL:PT1H
BEGIN:VTIMEZONE
TZID:America/Detroit
BEGIN:DAYLIGHT
TZOFFSETFROM:-0500
TZOFFSETTO:-0400
TZNAME:EDT
DTSTART:20200308T070000
END:DAYLIGHT
BEGIN:STANDARD
TZOFFSETFROM:-0400
TZOFFSETTO:-0500
TZNAME:EST
DTSTART:20201101T060000
END:STANDARD
BEGIN:DAYLIGHT
TZOFFSETFROM:-0500
TZOFFSETTO:-0400
TZNAME:EDT
DTSTART:20210314T070000
END:DAYLIGHT
BEGIN:STANDARD
TZOFFSETFROM:-0400
TZOFFSETTO:-0500
TZNAME:EST
DTSTART:20211107T060000
END:STANDARD
BEGIN:DAYLIGHT
TZOFFSETFROM:-0500
TZOFFSETTO:-0400
TZNAME:EDT
DTSTART:20220313T070000
END:DAYLIGHT
BEGIN:STANDARD
TZOFFSETFROM:-0400
TZOFFSETTO:-0500
TZNAME:EST
DTSTART:20221106T060000
END:STANDARD
BEGIN:DAYLIGHT
TZOFFSETFROM:-0500
TZOFFSETTO:-0400
TZNAME:EDT
DTSTART:20230312T070000
END:DAYLIGHT
BEGIN:STANDARD
TZOFFSETFROM:-0400
TZOFFSETTO:-0500
TZNAME:EST
DTSTART:20231105T060000
END:STANDARD
END:VTIMEZONE
BEGIN:VEVENT
DTSTART;TZID=America/Detroit:20221001T183000
DTEND;TZID=America/Detroit:20221001T220000
DTSTAMP:20260419T172432
CREATED:20220817T171355Z
LAST-MODIFIED:20220829T210928Z
UID:3929-1664649000-1664661600@wersellsbikeshop.com
SUMMARY:Glow Roll 419 Benefiting Read For Literacy 2022
DESCRIPTION:GLOW ROLL 419 is Downtown Toledo’s premier Glow Bike Tour presented by Wersell’s Bike Shop\, benefiting Read for Literacy! \nWersell’s Bike & Ski Shop has put together an amazing night time glow bike tour through downtown Toledo to celebrate fall bike riding and literacy too! \nYou\, your family and friends are invited to ride the route that the Wersell team has developed. \n12 mile GLOW ROLL \nIT’S NOT A RACE\, but a fun ride in the 419 in the dark! \n$25.00 registration fee or a TEAM OF 5 for $100.00 \nRegister before ride at Wersell’s Bike Shop during normal business hours \nRegistration opens at 6:30pm\, ride starts at 7:30pm. \nSTARTING & ENDING LOCATION:\nERIE STREET MARKET\n201 S. ERIE \nGLOW ROLL 419 RULES:\nChildren under 13 must ride with an adult on the routes. All participants will sign a waiver to ride.\nBike Routes will be marked and we encourage all riders to stay on the route; rest stops too.\nThis is not a RACE and the entire family is welcome to participate. Headlights\, tail lights and helmets are a must.\nWe’ll have Safety & Gear (SAG vehicles) on the route.\n \nGlow Roll 419 is sponsored by The Blade & Hecks Direct Mail & Printing. \nLet’s glow and roll together!
URL:https://wersellsbikeshop.com/event/glow-roll-419-benefiting-read-for-literacy-2022/
LOCATION:Erie Street Market\, 201 S Erie St\, Toledo\, OH\, 43604\, United States
CATEGORIES:Bike Ride,Glow Roll,Glow Roll 419,Oldest Bike Shop In Toledo,Read For Literacy,Wersells Bike Shop,Wersells Bike Shop Events
ATTACH;FMTTYPE=image/jpeg:https://wersellsbikeshop.com/wp-content/uploads/2021/06/glow-roll-419-read-for-literacy-e1660758058901.jpg
END:VEVENT
BEGIN:VEVENT
DTSTART;TZID=America/Detroit:20210924T183000
DTEND;TZID=America/Detroit:20210924T220000
DTSTAMP:20260419T172432
CREATED:20210616T133041Z
LAST-MODIFIED:20210824T182046Z
UID:3411-1632508200-1632520800@wersellsbikeshop.com
SUMMARY:Glow Roll 419 Benefiting Read For Literacy
DESCRIPTION:GLOW ROLL 419 is Downtown Toledo’s premier Glow Bike Tour presented by Wersell’s Bike Shop\, benefiting Read for Literacy! \nWersell’s Bike & Ski Shop has put together an amazing night time glow bike tour through downtown Toledo to celebrate fall bike riding and literacy too! \nYou\, your family and friends are invited to ride the route that the Wersell team has developed. \n10 mile GLOW ROLL \nIT’S NOT A RACE\, but a fun ride in the 419 in the dark! \n$25.00 registration fee or a TEAM OF 5 for $100.00 \nRegister before ride at Wersell’s Bike Shop during normal business hours \nRegistration opens at 6:30pm\, ride starts at 7:30pm. \nSTARTING & ENDING LOCATION:\nERIE STREET MARKET\n201 S. ERIE \nGLOW ROLL 419 RULES:\nChildren under 13 must ride with an adult on the routes. All participants will sign a waiver to ride.\nBike Routes will be marked and we encourage all riders to stay on the route; rest stops too.\nThis is not a RACE and the entire family is welcome to participate. Headlights\, tail lights and helmets are a must.\nWe’ll have Safety & Gear (SAG vehicles) on the route.\n \nGlow Roll 419 is sponsored by Paramount Advantage. \nLet’s glow and roll together!
URL:https://wersellsbikeshop.com/event/glow-roll-419-benefiting-read-for-literacy/
LOCATION:Erie Street Market\, 201 S Erie St\, Toledo\, OH\, 43604\, United States
CATEGORIES:Bike Ride,Glow Roll,Glow Roll 419,Oldest Bike Shop In Toledo,Read For Literacy,Wersells Bike Shop,Wersells Bike Shop Events
ATTACH;FMTTYPE=image/jpeg:https://wersellsbikeshop.com/wp-content/uploads/2021/06/glow-roll-419-read-for-literacy-e1660758058901.jpg
END:VEVENT
END:VCALENDAR