BEGIN:VCALENDAR
VERSION:2.0
PRODID:-//Wersell&#039;s Bike shop - ECPv6.15.20//NONSGML v1.0//EN
CALSCALE:GREGORIAN
METHOD:PUBLISH
X-WR-CALNAME:Wersell&#039;s Bike shop
X-ORIGINAL-URL:https://wersellsbikeshop.com
X-WR-CALDESC:Events for Wersell&#039;s Bike shop
REFRESH-INTERVAL;VALUE=DURATION:PT1H
X-Robots-Tag:noindex
X-PUBLISHED-TTL:PT1H
BEGIN:VTIMEZONE
TZID:America/Detroit
BEGIN:DAYLIGHT
TZOFFSETFROM:-0500
TZOFFSETTO:-0400
TZNAME:EDT
DTSTART:20200308T070000
END:DAYLIGHT
BEGIN:STANDARD
TZOFFSETFROM:-0400
TZOFFSETTO:-0500
TZNAME:EST
DTSTART:20201101T060000
END:STANDARD
BEGIN:DAYLIGHT
TZOFFSETFROM:-0500
TZOFFSETTO:-0400
TZNAME:EDT
DTSTART:20210314T070000
END:DAYLIGHT
BEGIN:STANDARD
TZOFFSETFROM:-0400
TZOFFSETTO:-0500
TZNAME:EST
DTSTART:20211107T060000
END:STANDARD
BEGIN:DAYLIGHT
TZOFFSETFROM:-0500
TZOFFSETTO:-0400
TZNAME:EDT
DTSTART:20220313T070000
END:DAYLIGHT
BEGIN:STANDARD
TZOFFSETFROM:-0400
TZOFFSETTO:-0500
TZNAME:EST
DTSTART:20221106T060000
END:STANDARD
END:VTIMEZONE
BEGIN:VEVENT
DTSTART;TZID=America/Detroit:20210911T153000
DTEND;TZID=America/Detroit:20210911T183000
DTSTAMP:20260419T142859
CREATED:20210319T010628Z
LAST-MODIFIED:20210727T200018Z
UID:3362-1631374200-1631385000@wersellsbikeshop.com
SUMMARY:Schmuckers Ride For Pie!
DESCRIPTION:New Date September 11th! \nWelcome to the Scmuckers Pie Ride to support Rob Szymanski and the Police Unity Tour. \nThe Police Unity Tour is to raise awareness of Law Enforcement Officers who have died in the line of duty and all proceeds will go to support the Police Unity Tour. The Police Unity Tour helps to maintain the national fallen officers memorial in Washington DC. Toledo fallen Officer Anthony Dia will be added to the Memorial this year in DC. \nThe family friendly ride will leave Wersell’s Bike Shop September 11 at 3:30pm and end at Schmuckers for early pie\, dinner or just a snack! \nYou can donate via CC at this link http://my.policeunitytour.com/robszymanski or donate via cash\, which will be accepted at Wersell’s Bike Shop up to the day of the ride and during the event!
URL:https://wersellsbikeshop.com/event/schmuckers-ride-for-pie/
LOCATION:Schmuckers Restuarant\, 2103 N. Reynolds Road\, Toledo\, OH\, 43615\, United States
CATEGORIES:Bike Ride,Police Unity Tour,Schmuckers Pie Ride,Wersells Bike Shop
ATTACH;FMTTYPE=image/jpeg:https://wersellsbikeshop.com/wp-content/uploads/2021/03/Schmuckers-Image.jpeg
END:VEVENT
END:VCALENDAR