BEGIN:VCALENDAR
VERSION:2.0
PRODID:-//Wersell&#039;s Bike shop - ECPv6.15.20//NONSGML v1.0//EN
CALSCALE:GREGORIAN
METHOD:PUBLISH
X-WR-CALNAME:Wersell&#039;s Bike shop
X-ORIGINAL-URL:https://wersellsbikeshop.com
X-WR-CALDESC:Events for Wersell&#039;s Bike shop
REFRESH-INTERVAL;VALUE=DURATION:PT1H
X-Robots-Tag:noindex
X-PUBLISHED-TTL:PT1H
BEGIN:VTIMEZONE
TZID:America/Detroit
BEGIN:DAYLIGHT
TZOFFSETFROM:-0500
TZOFFSETTO:-0400
TZNAME:EDT
DTSTART:20200308T070000
END:DAYLIGHT
BEGIN:STANDARD
TZOFFSETFROM:-0400
TZOFFSETTO:-0500
TZNAME:EST
DTSTART:20201101T060000
END:STANDARD
BEGIN:DAYLIGHT
TZOFFSETFROM:-0500
TZOFFSETTO:-0400
TZNAME:EDT
DTSTART:20210314T070000
END:DAYLIGHT
BEGIN:STANDARD
TZOFFSETFROM:-0400
TZOFFSETTO:-0500
TZNAME:EST
DTSTART:20211107T060000
END:STANDARD
BEGIN:DAYLIGHT
TZOFFSETFROM:-0500
TZOFFSETTO:-0400
TZNAME:EDT
DTSTART:20220313T070000
END:DAYLIGHT
BEGIN:STANDARD
TZOFFSETFROM:-0400
TZOFFSETTO:-0500
TZNAME:EST
DTSTART:20221106T060000
END:STANDARD
END:VTIMEZONE
BEGIN:VEVENT
DTSTART;TZID=America/Detroit:20210612T170000
DTEND;TZID=America/Detroit:20210612T200500
DTSTAMP:20260419T172421
CREATED:20210526T191349Z
LAST-MODIFIED:20210526T191349Z
UID:3395-1623517200-1623528300@wersellsbikeshop.com
SUMMARY:West Toledo Poker Run
DESCRIPTION:Saturday June 12th 5pm start time @ Patron Saints Brewery 4730 W. Bancroft Toledo\, Ohio 43606 \n$10 Per person entry fee \n\nPrizes given for \nBest Poker Hand \nWorst Hand\n\n\nPlease make sure all riders are back at Patron Saints Brewery no later than 8:05pm for the finale! \nPoker stops…which you can hit in any order!\n\nPatron Saints Brewery (Start & Finish) 4730 W. Bancroft\n\nCasual Pint 3550 Executive Pkwy\n\nFusion Bistro 3136 Markway (Cricket West)\n\nWersell’s Bike Shop 2860 W. Central\n\nBrew Coffee 1440 Secor Rd
URL:https://wersellsbikeshop.com/event/west-toledo-poker-run/
LOCATION:Patron Saints Brewery\, 4730 W Bancroft St #8\, Toledo\, OH\, 43615\, United States
CATEGORIES:Bike Ride,Patron Saints Brewery,Wersells Bike Shop,Wersells Bike Shop Events,West Toledo Poker Run
ATTACH;FMTTYPE=image/jpeg:https://wersellsbikeshop.com/wp-content/uploads/2021/05/Poker-Run-2021.jpg
END:VEVENT
END:VCALENDAR